BEGIN:VCALENDAR
VERSION:2.0
PRODID:-//Black Bottle Riot - ECPv6.15.20//NONSGML v1.0//EN
CALSCALE:GREGORIAN
METHOD:PUBLISH
X-WR-CALNAME:Black Bottle Riot
X-ORIGINAL-URL:https://www.blackbottleriot.com
X-WR-CALDESC:Events for Black Bottle Riot
REFRESH-INTERVAL;VALUE=DURATION:PT1H
X-Robots-Tag:noindex
X-PUBLISHED-TTL:PT1H
BEGIN:VTIMEZONE
TZID:Europe/Amsterdam
BEGIN:DAYLIGHT
TZOFFSETFROM:+0100
TZOFFSETTO:+0200
TZNAME:CEST
DTSTART:20220327T010000
END:DAYLIGHT
BEGIN:STANDARD
TZOFFSETFROM:+0200
TZOFFSETTO:+0100
TZNAME:CET
DTSTART:20221030T010000
END:STANDARD
BEGIN:DAYLIGHT
TZOFFSETFROM:+0100
TZOFFSETTO:+0200
TZNAME:CEST
DTSTART:20230326T010000
END:DAYLIGHT
BEGIN:STANDARD
TZOFFSETFROM:+0200
TZOFFSETTO:+0100
TZNAME:CET
DTSTART:20231029T010000
END:STANDARD
BEGIN:DAYLIGHT
TZOFFSETFROM:+0100
TZOFFSETTO:+0200
TZNAME:CEST
DTSTART:20240331T010000
END:DAYLIGHT
BEGIN:STANDARD
TZOFFSETFROM:+0200
TZOFFSETTO:+0100
TZNAME:CET
DTSTART:20241027T010000
END:STANDARD
END:VTIMEZONE
BEGIN:VEVENT
DTSTART;TZID=Europe/Amsterdam:20231230T000000
DTEND;TZID=Europe/Amsterdam:20231230T000000
DTSTAMP:20260421T150927
CREATED:20230922T100000Z
LAST-MODIFIED:20231023T090542Z
UID:10000114-1703894400-1703894400@www.blackbottleriot.com
SUMMARY:Merleyn\, Nijmegen (sold out)
DESCRIPTION:2 nights of live recordings at Merleyn\, Nijmegen:\nFriday 29th December\nSaturday 30th December \n \n‘The best sound you can get is an intimate club room\, where you’ve got four walls and the sound just bounces. That’s the way this music is meant to be heard’. – Bob Dylan. \nWe feel that we’re currently in the best musical shape we’ve ever been\, brimming with passion and a ravenous hunger for rock and roll! That’s why we believe it’s time to record and release a full-length live album\, capturing us in the place where we feel most at home: the stage. And not just any stage\, mind you! Merleyn Nijmegen holds significant importance for us. It embodies the quintessential rock and roll venue: cozy\, dimly lit\, with a low stage and fantastic acoustics. \nGiven the inherent challenges of recording a full-throttle rock and roll show\, we’ve chosen two dates to celebrate in style! Mark your calendars for December 29th and 30th. These two nights will be all about the music and partying\, featuring two different sets. So\, feel free to join us for back-to-back nights of musical joy\, ensuring that your enthusiastic sing-alongs will echo on our album for eternity.
URL:https://www.blackbottleriot.com/show/merleyn-nijmegen-2/
LOCATION:Merleyn\, Nijmegen\, Hertogstraat 13\, Nijmegen\, 6511 RV
CATEGORIES:poppodium
END:VEVENT
BEGIN:VEVENT
DTSTART;TZID=Europe/Amsterdam:20231229T000000
DTEND;TZID=Europe/Amsterdam:20231229T000000
DTSTAMP:20260421T150927
CREATED:20230922T100010Z
LAST-MODIFIED:20231023T090609Z
UID:10000113-1703808000-1703808000@www.blackbottleriot.com
SUMMARY:Merleyn\, Nijmegen (sold out)
DESCRIPTION:2 nights of live recordings at Merleyn\, Nijmegen:\nFriday 29th December\nSaturday 30th December \n \n‘The best sound you can get is an intimate club room\, where you’ve got four walls and the sound just bounces. That’s the way this music is meant to be heard’. – Bob Dylan. \nWe feel that we’re currently in the best musical shape we’ve ever been\, brimming with passion and a ravenous hunger for rock and roll! That’s why we believe it’s time to record and release a full-length live album\, capturing us in the place where we feel most at home: the stage. And not just any stage\, mind you! Merleyn Nijmegen holds significant importance for us. It embodies the quintessential rock and roll venue: cozy\, dimly lit\, with a low stage and fantastic acoustics. \nGiven the inherent challenges of recording a full-throttle rock and roll show\, we’ve chosen two dates to celebrate in style! Mark your calendars for December 29th and 30th. These two nights will be all about the music and partying\, featuring two different sets. So\, feel free to join us for back-to-back nights of musical joy\, ensuring that your enthusiastic sing-alongs will echo on our album for eternity.
URL:https://www.blackbottleriot.com/show/merleyn-nijmegen-1/
LOCATION:Merleyn\, Nijmegen\, Hertogstraat 13\, Nijmegen\, 6511 RV
CATEGORIES:poppodium
END:VEVENT
END:VCALENDAR