BEGIN:VCALENDAR
VERSION:2.0
PRODID:-//Black Bottle Riot - ECPv6.15.20//NONSGML v1.0//EN
CALSCALE:GREGORIAN
METHOD:PUBLISH
X-WR-CALNAME:Black Bottle Riot
X-ORIGINAL-URL:https://www.blackbottleriot.com
X-WR-CALDESC:Events for Black Bottle Riot
REFRESH-INTERVAL;VALUE=DURATION:PT1H
X-Robots-Tag:noindex
X-PUBLISHED-TTL:PT1H
BEGIN:VTIMEZONE
TZID:Europe/Amsterdam
BEGIN:DAYLIGHT
TZOFFSETFROM:+0100
TZOFFSETTO:+0200
TZNAME:CEST
DTSTART:20240331T010000
END:DAYLIGHT
BEGIN:STANDARD
TZOFFSETFROM:+0200
TZOFFSETTO:+0100
TZNAME:CET
DTSTART:20241027T010000
END:STANDARD
BEGIN:DAYLIGHT
TZOFFSETFROM:+0100
TZOFFSETTO:+0200
TZNAME:CEST
DTSTART:20250330T010000
END:DAYLIGHT
BEGIN:STANDARD
TZOFFSETFROM:+0200
TZOFFSETTO:+0100
TZNAME:CET
DTSTART:20251026T010000
END:STANDARD
BEGIN:DAYLIGHT
TZOFFSETFROM:+0100
TZOFFSETTO:+0200
TZNAME:CEST
DTSTART:20260329T010000
END:DAYLIGHT
BEGIN:STANDARD
TZOFFSETFROM:+0200
TZOFFSETTO:+0100
TZNAME:CET
DTSTART:20261025T010000
END:STANDARD
END:VTIMEZONE
BEGIN:VEVENT
DTSTART;TZID=Europe/Amsterdam:20250613T193000
DTEND;TZID=Europe/Amsterdam:20250613T230000
DTSTAMP:20260421T154610
CREATED:20250504T091859Z
LAST-MODIFIED:20250504T091859Z
UID:10000150-1749843000-1749855600@www.blackbottleriot.com
SUMMARY:Live in LU Open Air\, Ludwigsfelde (GE)
DESCRIPTION:w/ Sweety Glitter
URL:https://www.blackbottleriot.com/show/ludwigsfelde/
LOCATION:Klubhaus Ludwigsfelde (GE)\, Theodor-Fontane-Straße 42\, Ludwigsfelde\, 14974\, Germany
CATEGORIES:poppodium
END:VEVENT
END:VCALENDAR